BEGIN:VCALENDAR
VERSION:2.0
PRODID:-//Knokr//Festival//EN
BEGIN:VEVENT
DTSTART;VALUE=DATE:20260806
DTEND;VALUE=DATE:20260809
SUMMARY:Castelo Rock
LOCATION:Muros, Spain
URL:https://castelorock.gal/
END:VEVENT
END:VCALENDAR