BEGIN:VCALENDAR
VERSION:2.0
PRODID:-//Knokr//Festival//EN
BEGIN:VEVENT
DTSTART;VALUE=DATE:20260529
DTEND;VALUE=DATE:20260926
SUMMARY:Concerts At The Farm
LOCATION:Carnation, United States
URL:https://remlingerfarms.com/remlinger-summer-concerts/
END:VEVENT
END:VCALENDAR