BEGIN:VCALENDAR
VERSION:2.0
PRODID:-//Knokr//Festival//EN
BEGIN:VEVENT
DTSTART;VALUE=DATE:20260521
DTEND;VALUE=DATE:20260608
SUMMARY:Kerrville Folk Festival
LOCATION:Kerrville, United States
URL:https://www.kerrvillefolkfestival.org/
END:VEVENT
END:VCALENDAR