BEGIN:VCALENDAR
VERSION:2.0
PRODID:-//Knokr//Festival//EN
BEGIN:VEVENT
DTSTART;VALUE=DATE:20260515
DTEND;VALUE=DATE:20260614
SUMMARY:Musicians Corner Spring Series
LOCATION:Nashville, United States
URL:https://musicianscorner.com/
END:VEVENT
END:VCALENDAR