BEGIN:VCALENDAR
VERSION:2.0
PRODID:-//Knokr//Festival//EN
BEGIN:VEVENT
DTSTART;VALUE=DATE:20260605
DTEND;VALUE=DATE:20260608
SUMMARY:OUTLOUD Music Festival
LOCATION:West Hollywood, United States
URL:https://www.wehopride.com/event/outloud-weho-pride
END:VEVENT
END:VCALENDAR