BEGIN:VCALENDAR
VERSION:2.0
PRODID:-//Knokr//Festival//EN
BEGIN:VEVENT
DTSTART;VALUE=DATE:20260619
DTEND;VALUE=DATE:20260621
SUMMARY:Rock Nordeste
LOCATION:Vila Real, Portugal
END:VEVENT
END:VCALENDAR